Workbook
Name _CT250: #REF!
Name Cöï_ly_vaän_chuyeãn: #REF!

Sheet Dong thau
A1: TỔNG CÔNG TY ĐIỆN LỰC MIỀN BẮC C.TY ĐIỆN LỰC LÀO CAI | C1: CỘNG HOÀ XÃ HỘI CHỦ NGHĨA VIỆT NAM Độc lập - Tự do - Hạnh phúc
A4: BIÊN BẢN ĐÓNG THẦU
A5: A. CÁC THÔNG TIN CHUNG
A6: I. Tên dự án: Cấp điện cho các thôn bản chưa có lưới điện Quốc gia tại huyện Mường Khương, tỉnh Lào Cai
A7: II. Tên Gói thầu: Khảo sát kỹ thuật, lập thiết kế BVTC, lập RP, EMP, EMDP và lập Hồ sơ mời thầu
A8: III. Bên mời thầu và các Nhà thầu nộp Hồ sơ dự thầu:
A9: 1. Bên mời thầu: Công ty Điện lực Lào Cai
A10: 2. Danh sách các Nhà thầu nộp Hồ sơ dự thầu tính đến thời điểm đóng thầu:
A11: STT | B11: Tên nhà thầu | C11: Địa chỉ | D11: Số điện thoại, fax | E11: Tình trạng niêm phong | F11: Ghi chú
A12: 1 | B12: Công ty Cổ phần Xây dựng HaLuTa | C12: Địa chỉ: số 281 đường Thanh Niên, phường Hải Tân, TP. Hải Dương, tỉnh Hải Dương. | D12: Điện thoại: 0320.2222 999; Fax: 0320.3869 555 | E12: Nguyên niêm phong
A13: 2 | B13: Công ty cổ phần Đức Hà | C13: 270- Đường Trần Huy Liệu- xã Mỹ Xá – Nam Định | D13: Điện thoại: 0350 3529 199 | E13: =+E12 -> Nguyên niêm phong | H13: =+#REF!*0.03 -> #REF!
A14: 3 | B14: Công ty CP đầu tư thiết bị và xây lắp điện Thiên Trường | C14: Lô 55 đường N2 cụm công nghiệp An Xá – xã Mỹ Xá– Nam Định | D14: Điện thoại: 03503 839 839 Fax: 03503 834 578 | E14: =+E13 -> Nguyên niêm phong
A15: 4 | B15: Công ty cổ phần đầu tư xây lắp 3T | C15: Số 182/114 mạc Thị Bưởi, phường Thống Nhất, Nam Định | D15: Điện thoại 0915 524 625 | E15: =+E14 -> Nguyên niêm phong
A16: 3. Các Nhà thầu có văn bản đề nghị rút, thay thế, sửa đổi, bổ sung HSDT (nếu có): Không
A17: B. CÁC THÔNG TIN KHÁC (NẾU CÓ): Không
A18: Thời điểm đóng thầu: 09h00 ngày 18/04/2016 tại Phòng Quản lý Đầu tư, tầng 5 -Công ty Điện lực Lào Cai: Đại lộ Trần Hưng Đạo, phường Nam Cường, thành phố Lào Cai, tỉnh Lào Cai .
A19: Chữ ký của bên mời thầu:
A20: PHÒNG QLĐT | D20: C.TY ĐIỆN LỰC LÀO CAI PHÓ GIÁM ĐỐC
A21: 1 | B21: Ông: Nguyễn Khắc Công | C21: ……………………………
A22: 2 | B22: Ông: Nguyễn Quốc Hùng | C22: …………………………….
A23: 3 | B23: Ông: Đào Quốc Khánh | C23: ……………………… | D23: Trần Văn Bằng

Sheet Mo thau
A1: KẾT QUẢ MỞ E-HSĐXTC (trích xuất tại Hệ thống mạng đấu thầu quốc gia http://muasamcong.mpi.gov.vn)
A2: Lễ mở E-HSĐXTC được bắt đầu vào lúc16 h 30 ph ngày 03 tháng 6 năm 2020 tại Hệ thống mạng đấu thầu quốc gia http://muasamcong.mpi.gov.vn.
A3: I. THÔNG TIN VỀ GÓI THẦU:
A4: 1. Số E-TBMT: 20200505073 - 00 ngày 05/5/2020.
A5: 2. Tên Gói thầu: Tư vấn khảo sát, lập báo cáo KTKT công trình cấp điện thôn Sản Chư Ván, Ngải Thầu, Sín Chải, xã Thải Giàng Phố, huyện Bắc Hà.
A6: 3. Tên dự án: Dự án đầu tư xây dựng 06 công trình cấp điện cho các thôn chưa được sử dụng điện trên địa bàn tỉnh Lào Cai.
A7: 4. Tên bên mời thầu: Ban quản lý dự án điện nông thôn Sở Công Thương Lào Cai.
A8: 5. Hình thức lựa chọn nhà thầu: Đấu thầu rộng rãi trong nước, qua mạng.
A9: 6. Loại hợp đồng: Trọn gói.
A10: 7. Thời điểm hoàn thành mở thầu: 16h 40ph ngày 03/6/2020
A11: 8. Tổng số nhà thầu tham dự: 03 nhà thầu.
A12: II. THÔNG TIN VỀ CÁC NHÀ THẦU THAM DỰ
A13: TT | B13: Các thông tin chủ yếu | C13: Tên Nhà thầu
C14: Công ty TNHH tư vấn công nghiệp Lào Cai | E14: Công ty TNHH công nghệ cao HT Việt Nam | F14: Công ty cổ phần dịch vụ tư vấn xây dựng điện Việt Nam | G14: Ghi chú
A15: 1 | B15: Điểm kỹ thuật | C15: 98.8 | E15: 86 | F15: 78 | J15: 954044000
A16: 2 | B16: Giá dự thầu | C16: 666538000 | E16: 734105900 | F16: 834740884 | J16: =+J15-C16 -> 287506000
A17: 3 | B17: Giá trị giảm giá | C17: =+C16*0% -> 0
A18: 4 | B18: Giá dự thầu sau giảm giá (nếu có) | C18: =+ROUND((C16-C17),0) -> 666538000 | E18: =E16 -> 734105900 | F18: =F16 -> 834740884 | J18: =+J16/J15 -> 0.30135507
A19: 5 | B19: Hiệu lực của E-HSĐXTC | C19: 100 ngày kể từ ngày 25/5/2020 | E19: 100 ngày kể từ ngày 25/5/2020 | F19: 100 ngày kể từ ngày 25/5/2020

Sheet Phan cong
A1: CÔNG TY ĐIỆN LỰC LÀO CAI TỔ CHUYÊN GIA ĐẤU THẦU (thành lập theo QĐ số 1682/QĐ-PCLK ngày 25/12/2015 của Giám đốc Công ty Điện lực Lào Cai) | D1: CỘNG HOÀ XÃ HỘI CHỦ NGHĨA VIỆT NAM Độc lập - Tự do - Hạnh phúc
A2: BIÊN BẢN HỌP
A3: Về việc phân công công việc của các thành viên tổ chuyên gia đấu thầu và cách thức đánh giá Hồ sơ dự thầu Gói thầu: Khảo sát kỹ thuật, lập thiết kế BVTC, lập RP, EMP, EMDP và lập Hồ sơ mời thầu DỰ ÁN: CẤP ĐIỆN CHO CÁC THÔN BẢN CHƯA CÓ LƯỚI ĐIỆN QUỐC GIA TẠI HUYỆN MƯỜNG KHƯƠNG, TỈNH LÀO CAI
A5: Hôm nay, ngày 15 tháng 04 năm 2016, tại trụ sở Công ty Điện lực Lào Cai
A6: I. Thành phần gồm có: toàn thể các thành viên trong tổ chuyên gia đấu thầu theo Quyết định số 355/QĐ-PCLK ngày 22/03/2016 của Giám đốc Giám đốc Công ty Điện lực Lào Cai.
A7: II. Nội dung: Cuộc họp đã thống nhất phân công công việc của các thành viên tổ chuyên gia đấu thầu và cách thức đánh giá Hồ sơ dự thầu Gói thầu trên như sau:
A8: 1. Phân công Ông: Lê Duy, Ông: Đào Quốc Khánh thực hiện công việc đối chiếu Bản gốc và bản chụp của HSDT; ký xác nhận vào bản gốc đơn dự thầu, bảng tổng hợp giá dự thầu, giấy uỷ quyền của người đại diện theo pháp luật của nhà thầu (nếu có), thư giảm giá (nếu có), thoả thuận liên danh (nếu có) và các nội dung quan trọng khác của từng HSDT và giao lại cho Phòng QLĐT quản lý hồ sơ theo quy định của Luật Đấu thầu.
A9: 2. Cách thức làm việc của Tổ chuyên gia đấu thầu là theo nhóm trong quá trình đánh giá; riêng phần Sửa lỗi số học và hiệu chỉnh sai lệch, phân công Ông: Lê Duy, Đào Quốc Khánh thực hiện.
A10: 3. Cách thức đánh giá Hồ sơ dự thầu đối với trường hợp trong tổ chuyên gia có một hoặc một số thành viên có đánh giá khác biệt so với đa số thành viên còn lại, thì đánh giá lấy theo đa số.
A11: III. Biên bản đã được lập xong cùng ngày, được các thành viên trong tổ chuyên gia đấu thầu thông qua và cùng thống nhất ký tên.
A12: =+TH!A48 -> 1. Ông: Dương Phong Vũ …….. | E12: =+TH!#REF! -> #REF!
A13: =+TH!#REF! -> #REF! | E13: =+TH!#REF! -> #REF!
A14: =+TH!#REF! -> #REF! | E14: =+TH!#REF! -> #REF!
A15: =+TH!#REF! -> #REF! | E15: =+TH!#REF! -> #REF!
A16: 5. Ông: Nguyễn Hoàng Điệp

Sheet Bia
A1: SỞ CÔNG THƯƠNG LÀO CAI TỔ CHUYÊN GIA ĐẤU THẦU (thành lập theo QĐ số 58 /QĐ-SCT ngày 06/4/2015 của Giám đốc Sở Công Thương tỉnh Lào Cai) | E1: CỘNG HOÀ XÃ HỘI CHỦ NGHĨA VIỆT NAM Độc lập - Tự do - Hạnh phúc
E2: Lào Cai, ngày 04 tháng 6 năm 2020
A11: BÁO CÁO ĐÁNH GIÁ
A12: HỒ SƠ ĐỀ XUẤT VỀ TÀI CHÍNH (E-HSĐXTC)
A14: Gói thầu: Tư vấn khảo sát, lập báo cáo KTKT công trình cấp điện thôn Sản Chư Ván, Ngải Thầu, Sín Chải, xã Thải Giàng Phố, huyện Bắc Hà.
A15: E-TBMT số: 20200505073 - 00 ngày 05/5/2020.
A16: Chủ đầu tư: Sở Công Thương tỉnh Lào Cai
A17: Bên mời thầu: Ban quản lý dự án điện nông thôn Sở Công Thương Lào Cai
E22: TỔ CHUYÊN GIA ĐẤU THẦU
E23: TỔ TRƯỞNG
E30: Dương Phong Vũ

Sheet TH
A1: SỞ CÔNG THƯƠNG LÀO CAI TỔ CHUYÊN GIA ĐẤU THẦU (thành lập theo QĐ số 58 /QĐ-SCT ngày 06/4/2015 của Giám đốc Sở Công Thương tỉnh Lào Cai) | E1: CỘNG HOÀ XÃ HỘI CHỦ NGHĨA VIỆT NAM Độc lập - Tự do - Hạnh phúc
F2: =+Bia!E2 -> Lào Cai, ngày 04 tháng 6 năm 2020
A3: BÁO CÁO ĐÁNH GIÁ HỒ SƠ ĐỀ XUẤT VỀ TÀI CHÍNH (E-HSĐXTC)
A4: Gói thầu: Tư vấn khảo sát, lập thiết kế bản vẽ thi công và dự toán
A5: Kính gửi: Giám đốc Sở Công Thương Lào Cai
A6: I. DANH SÁCH NHÀ THẦU ĐÁP ỨNG YÊU CẦU VỀ KỸ THUẬT:
A7: Căn cứ Quyết định số 219/QĐ-SCT ngày 02/6/2020 của Giám đốc Sở Công Thương Lào Cai về việc phê duyệt danh sách nhà thầu đáp ứng yêu cầu về kỹ thuật.
A8: Danh sách nhà thầu đáp ứng yêu cầu về kỹ thuật bao gồm:
A9: 1. Công ty TNHH tư vấn Công nghiệp Lào Cai. 2. Công ty TNHH công nghệ cao HT Việt Nam. 3. Công ty cổ phần dịch vụ tư vấn xây dựng điện Việt Nam.
A10: II. KẾT QUẢ ĐÁNH GIÁ HỒ SƠ ĐỀ XUẤT VỀ TÀI CHÍNH (E-HSĐXTC)
A11: 1. Mở Hồ sơ đề xuất về tài chính (E-HSĐXTC):
A12: TT | B12: Các thông tin chủ yếu | J12: Ghi chú
G13: ='Mo thau'!C14 -> Công ty TNHH tư vấn công nghiệp Lào Cai | H13: ='Mo thau'!E14 -> Công ty TNHH công nghệ cao HT Việt Nam | I13: ='Mo thau'!F14 -> Công ty cổ phần dịch vụ tư vấn xây dựng điện Việt Nam
A14: 1 | B14: =+'Mo thau'!B15 -> Điểm kỹ thuật | G14: ='Mo thau'!C15 -> 98.8 | H14: ='Mo thau'!E15 -> 86 | I14: ='Mo thau'!F15 -> 78
A15: 2 | B15: =+'Mo thau'!B16 -> Giá dự thầu | G15: ='Mo thau'!C16 -> 666538000 | H15: ='Mo thau'!E16 -> 734105900 | I15: ='Mo thau'!F16 -> 834740884
A16: 3 | B16: =+'Mo thau'!B17 -> Giá trị giảm giá
A17: 4 | B17: =+'Mo thau'!B18 -> Giá dự thầu sau giảm giá (nếu có) | G17: ='Mo thau'!C18 -> 666538000 | H17: ='Mo thau'!E18 -> 734105900 | I17: ='Mo thau'!F18 -> 834740884
A18: 5 | B18: =+'Mo thau'!B19 -> Hiệu lực của E-HSĐXTC | G18: ='Mo thau'!C19 -> 100 ngày kể từ ngày 25/5/2020 | H18: ='Mo thau'!E19 -> 100 ngày kể từ ngày 25/5/2020 | I18: ='Mo thau'!F19 -> 100 ngày kể từ ngày 25/5/2020
A19: 2. Kết quả đánh giá về tài chính:
A20: Trên cơ sở đánh giá về giá của từng E-HSĐXTC, kết quả đánh giá về giá được tổng hợp theo Bảng số 1 dưới đây:
J21: Bảng số 1
A22: STT | B22: Nội dung | G22: Nhà thầu | J22: Ghi chú
G23: =G13 -> Công ty TNHH tư vấn công nghiệp Lào Cai | H23: =H13 -> Công ty TNHH công nghệ cao HT Việt Nam | I23: =I13 -> Công ty cổ phần dịch vụ tư vấn xây dựng điện Việt Nam
A24: 1 | B24: Giá dự thầu (giá ghi trong đơn dự thầu không tính giá trị giảm giá (nếu có)) | G24: =G15 -> 666538000 | H24: =H15 -> 734105900 | I24: =I15 -> 834740884
A25: 2 | B25: Giá trị giảm giá (nếu có)
A26: 3 | B26: Giá dự thầu sau khi trừ giảm giá (nếu có) | G26: =+G24-G25 -> 666538000 | H26: =+H24-H25 -> 734105900 | I26: =+I24-I25 -> 834740884
B27: Phương pháp kết hợp giữa kỹ thuật và giá
A28: 4 | B28: Điểm giá | G28: =+'PL 02'!C9 -> 100 | H28: ='PL 02'!C18 -> 90.795892 | I28: ='PL 02'!C27 -> 78.99795
A29: 5 | B29: Điểm kỹ thuật | G29: =+'PL 02'!C10 -> 98.8 | H29: ='PL 02'!C19 -> 86 | I29: ='PL 02'!C28 -> 78
A30: 6 | B30: Điểm tổng hợp | G30: =+'PL 02'!C11 -> 99.16 | H30: ='PL 02'!C20 -> 87.438768 | I30: ='PL 02'!C29 -> 78.299385
A31: III. TỔNG HỢP KẾT QUẢ ĐÁNH GIÁ E-HSĐXTC:
A32: Trên cơ sở đánh giá E-HSĐXTC của tổ chuyên gia, kết quả đánh giá E-HSĐXTC được tổng hợp theo Bảng số 2 với các nội dung cơ bản như sau:
A33: STT | B33: Nội dung | G33: Nhà thầu | J33: Ghi chú
G34: =+G23 -> Công ty TNHH tư vấn công nghiệp Lào Cai | H34: =+H23 -> Công ty TNHH công nghệ cao HT Việt Nam | I34: =+I23 -> Công ty cổ phần dịch vụ tư vấn xây dựng điện Việt Nam
A35: 1 | B35: Kết quả đánh giá tính hợp lệ của E-HSĐXTC | G35: Đạt | H35: Đạt | I35: Đạt
B36: Phương pháp kết hợp giữa kỹ thuật và giá
A37: 2 | B37: Điểm tổng hợp | G37: =+G30 -> 99.16 | H37: =+H30 -> 87.438768 | I37: =+I30 -> 78.299385
A38: 3 | B38: Xác định ưu đãi (nếu có) | G38: Không | H38: Không | I38: Không
A39: 4 | B39: Xếp hạng các HSDT | G39: Thứ nhất | H39: Thứ hai | I39: Thứ ba
A40: IV. KẾT LUẬN VÀ KIẾN NGHỊ:
...

Sheet Phu luc
A1: Phụ lục II DANH MỤC TÀI LIỆU ĐÍNH KÈM BÁO CÁO ĐÁNH GIÁ ĐỀ XUẤT TÀI CHÍNH
A2: STT | B2: Tài liệu | C2: Số, ký hiệu và ngày tháng (nếu có)
A3: I | B3: Mở Hồ sơ đề xuất về tài chính (E-HSĐXTC)
A4: 1 | B4: Quyết định phê duyệt danh sách nhà thầu đáp ứng yêu cầu kỹ thuật | C4: Số 219/QĐ-SCT ngày 02/6/2020 của Giám đốc Sở Công Thương Lào Cai về việc phê duyệt danh sách nhà thầu đáp ứng yêu cầu về kỹ thuật.
A5: 2 | B5: Thông báo danh sách nhà thầu đáp ứng yêu cầu kỹ thuật | C5: Số 41/TB-BQL ngày 02/6/2020 của Giám đốc Sở Công Thương Lào Cai
A6: 3 | B6: Biên bản mở Hồ sơ đề xuất tài chính (E-HSĐXTC) | C6: Ngày 03/6/2020
A7: II | B7: Đánh giá Hồ sơ đề xuất về tài chính (E-HSĐXTC)
A8: 1 | B8: Bản xác định điểm giá, điểm tổng hợp | C8: Phụ lục 01
A9: 2 | B9: Bản tổng hợp kết quả đánh giá về tài chính | C9: Phụ lục 02

Sheet KT ban goc
A1: CỘNG HOÀ XÃ HỘI CHỦ NGHĨA VIỆT NAM Độc lập - Tự do - Hạnh phúc
A2: KIỂM TRA SỰ THỐNG NHẤT GIỮA BẢN GỐC VÀ BẢN CHỤP CỦA HỒ ĐXKT
A4: Hôm nay, ngày 28 tháng 03 năm 2016, tại trụ sở Công ty Điện lực Lào Cai
A5: Ngay sau Lễ mở thầu Gói thầu: Khảo sát kỹ thuật, lập thiết kế BVTC, lập RP, EMP, EMDP và lập Hồ sơ mời thầu thuộc Dự án: Cấp điện cho các thôn bản chưa có lưới điện Quốc gia tại huyện Mường Khương, tỉnh Lào Cai, đã tiến hành:
A6: 1. Kiểm tra sự thống nhất giữa bản gốc và bản chụp của Hồ sơ ĐXKT:
A7: STT | B7: Tên nhà thầu | E7: Kết quả kiểm tra giữa bản gốc và bản chụp HS ĐXKT
A8: 1 | B8: =+TH!#REF! -> #REF! | E8: thống nhất
A9: 2 | B9: =+TH!#REF! -> #REF! | E9: thống nhất
A10: 3 | B10: =+TH!#REF! -> #REF! | E10: thống nhất
A11: 4
A12: 2. Sau khi kiểm tra đã ký xác nhận vào bản gốc đơn dự thầu, giấy uỷ quyền của người đại diện theo pháp luật của nhà thầu (nếu có), thoả thuận liên danh (nếu có) và các nội dung quan trọng khác của từng HSĐXKT và giao lại cho Phòng QLĐT quản lý hồ sơ theo quy định của Luật Đấu thầu.
A13: NGƯỜI KIỂM TRA
A15: Lê Duy Đào Quốc Khánh

Sheet Mau 5
A3: CHUYỂN ĐỔI GIÁ DỰ THẦU SAU SỬA LỖI,
A4: HIỆU CHỈNH SAI LỆCH, TRỪ GIÁ TRỊ GIẢM GIÁ (NẾU CÓ),
A6: =+#REF! -> #REF!
A8: Giá dự thầu sau sửa lỗi, hiệu chỉnh sai lệch, trừ giá trị giảm giá (nếu có) | B8: Tỷ giá quy đổi quy định trong HSMT | C8: Giá dự thầu sau sửa lỗi, hiệu chỉnh sai lệch, trừ giá trị giảm giá (nếu có), chuyển đổi về một đồng tiền chung
A9: =+#REF! -> #REF! | B9: Không | C9: =+A9 -> #REF!
A11: TỔ TRƯỞNG TỔ CHUYÊN GIA | B11: NGƯỜI ĐÁNH GIÁ
A13: Ông: Nguyễn Khắc Công | B13: Lê Duy | C13: Đào Quốc Khánh
A39: CHUYỂN ĐỔI GIÁ DỰ THẦU SAU SỬA LỖI,
A40: HIỆU CHỈNH SAI LỆCH, TRỪ GIÁ TRỊ GIẢM GIÁ (NẾU CÓ),
A42: =+#REF! -> #REF!
A44: Giá dự thầu sau sửa lỗi, hiệu chỉnh sai lệch, trừ giá trị giảm giá (nếu có) | B44: Tỷ giá quy đổi quy định trong HSMT | C44: Giá dự thầu sau sửa lỗi, hiệu chỉnh sai lệch, trừ giá trị giảm giá (nếu có), chuyển đổi về một đồng tiền chung
A45: =+#REF! -> #REF! | B45: =+B9 -> Không | C45: =+A45 -> #REF!
A47: TỔ TRƯỞNG TỔ CHUYÊN GIA | B47: NGƯỜI ĐÁNH GIÁ
A49: Nguyễn Khắc Công | B49: Lê Duy | C49: Đào Quốc Khánh

Sheet PL 01
A1: Phụ lục 01: XÁC ĐỊNH ĐIỂM GIÁ VÀ ĐIỂM TỔNG HỢP
A2: E-HSĐXTC của Nhà thầu: Công ty TNHH tư vấn công nghiệp Lào Cai
A3: A. Xác định điểm giá
A4: Gnhà thầu | C4: Gthấp nhất | E4: Điểm giá (điểm)
A5: (1) | C5: (2) | E5: (3)
A6: 666538000 | C6: 666538000 | E6: =+C6*100/A6 -> 100
A7: Ghi chú:
A8: (1) Là giá dự thầu sau giảm giá của nhà thầu;
A9: (2) Là giá dự thầu sau giảm giá thấp nhất trong số các nhà thầu được đánh giá chi tiết về tài chính;
A10: (3) Điểm giá = (2)x(100)/(1).
A11: B. Xác định điểm tổng hợp
A12: Đề xuất về kỹ thuật | C12: Đề xuất về tài chính | E12: Điểm tổng hợp
A13: Điểm kỹ thuật | B13: K% | C13: Điểm giá | D13: G%
A14: (1) | B14: (2) | C14: (3) | D14: (4) | E14: (5)
A15: 98.8 | B15: 0.7 | C15: =+E6 -> 100 | D15: 0.3 | E15: =+(A15*B15)+(C15*D15) -> 99.16
A16: Ghi chú:
A17: (1) Là điểm kỹ thuật của nhà thầu đang xét;
A18: (2) Là tỷ trọng điểm về kỹ thuật quy định trong E-HSMT;
A19: (3) Lấy ở bảng xác định điểm giá;
A20: (4) Tỷ trọng điểm về giá quy định trong E-HSMT;
A21: (5) = (1)x(2) + (3)x(4).
A22: E-HSĐXTC của Nhà thầu: Công ty TNHH công nghệ cao HT Việt Nam
A23: A. Xác định điểm giá
A24: Gnhà thầu | C24: Gthấp nhất | E24: Điểm giá (điểm)
A25: (1) | C25: (2) | E25: (3)
A26: 734105900 | C26: 666538000 | E26: =+C26*100/A26 -> 90.795892
A27: Ghi chú:
A28: (1) Là giá dự thầu sau giảm giá của nhà thầu;
A29: (2) Là giá dự thầu sau giảm giá thấp nhất trong số các nhà thầu được đánh giá chi tiết về tài chính;
A30: (3) Điểm giá = (2)x(100)/(1).
A31: B. Xác định điểm tổng hợp
A32: Đề xuất về kỹ thuật | C32: Đề xuất về tài chính | E32: Điểm tổng hợp
A33: Điểm kỹ thuật | B33: K% | C33: Điểm giá | D33: G%
A34: (1) | B34: (2) | C34: (3) | D34: (4) | E34: (5)
A35: 86 | B35: 0.7 | C35: =E26 -> 90.795892 | D35: 0.3 | E35: =+(A35*B35)+(C35*D35) -> 87.438768
A36: Ghi chú:
A37: (1) Là điểm kỹ thuật của nhà thầu đang xét;
A38: (2) Là tỷ trọng điểm về kỹ thuật quy định trong E-HSMT;
A39: (3) Lấy ở bảng xác định điểm giá;
A40: (4) Tỷ trọng điểm về giá quy định trong E-HSMT;
...

Sheet PL 02
A2: Phụ lục 02: TỔNG HỢP KẾT QUẢ ĐÁNH GIÁ VỀ TÀI CHÍNH
A3: =+'PL 01'!A2:G2 -> E-HSĐXTC của Nhà thầu: Công ty TNHH tư vấn công nghiệp Lào Cai
A4: STT | B4: Nội dung | C4: Giá trị
A5: 1 | B5: Giá dự thầu | C5: =+'Mo thau'!C16:D16 -> 666538000
A6: 2 | B6: Giá trị giảm giá (nếu có) | C6: =+'Mo thau'!C17:D17 -> 0
A7: 3 | B7: Giá dự thầu sau giảm giá (nếu có) | C7: =+'Mo thau'!C18:D18 -> 666538000
B8: Phương pháp kết hợp giữa kỹ thuật và giá
A9: 4 | B9: Điểm giá | C9: =+'PL 01'!C15 -> 100
A10: 5 | B10: Điểm kỹ thuật | C10: =+'PL 01'!A15 -> 98.8
A11: 6 | B11: Điểm tổng hợp | C11: =+'PL 01'!E15 -> 99.16
A12: ='PL 01'!A22:G22 -> E-HSĐXTC của Nhà thầu: Công ty TNHH công nghệ cao HT Việt Nam
A13: STT | B13: Nội dung | C13: Giá trị
A14: 1 | B14: Giá dự thầu | C14: ='Mo thau'!E16 -> 734105900
A15: 2 | B15: Giá trị giảm giá (nếu có) | C15: =+'Mo thau'!C26:D26 -> 0
A16: 3 | B16: Giá dự thầu sau giảm giá (nếu có) | C16: ='Mo thau'!E18 -> 734105900
B17: Phương pháp kết hợp giữa kỹ thuật và giá
A18: 4 | B18: Điểm giá | C18: ='PL 01'!C35 -> 90.795892
A19: 5 | B19: Điểm kỹ thuật | C19: ='PL 01'!A35 -> 86
A20: 6 | B20: Điểm tổng hợp | C20: ='PL 01'!E35 -> 87.438768
A21: ='PL 01'!A42:G42 -> E-HSĐXTC của Nhà thầu: Công ty cổ phần dịch vụ tư vấn xây dựng điện Việt Nam.
A22: STT | B22: Nội dung | C22: Giá trị
A23: 1 | B23: Giá dự thầu | C23: ='Mo thau'!F16 -> 834740884
A24: 2 | B24: Giá trị giảm giá (nếu có) | C24: =+'Mo thau'!C35:D35 -> 0
A25: 3 | B25: Giá dự thầu sau giảm giá (nếu có) | C25: ='Mo thau'!F18 -> 834740884
B26: Phương pháp kết hợp giữa kỹ thuật và giá
A27: 4 | B27: Điểm giá | C27: ='PL 01'!E46 -> 78.99795
A28: 5 | B28: Điểm kỹ thuật | C28: ='PL 01'!A55 -> 78
A29: 6 | B29: Điểm tổng hợp | C29: ='PL 01'!E55 -> 78.299385
A31: =+TH!A48 -> 1. Ông: Dương Phong Vũ …….. | C31: =TH!G48 -> Ông: Lê Tuấn Anh……..

Sheet Mau 4
A1: ĐÁNH GIÁ VỀ KỸ THUẬT
A2: =+#REF! -> #REF!
A3: STT | B3: Nội dung yêu cầu | D3: Mức độ đáp ứng | E3: Kết quả đánh giá | G3: Ghi chú
A4: 1 | B4: Mức độ đáp ứng yêu cầu kỹ thuật của Vật tư, thiết bị | E4: =IF(AND(E5="Đạt",E6="Đạt"),"Đạt","Không đạt") -> Không đạt
A5: 1.1 | B5: Đối với các Vật tư, thiết bị chính được nêu tại Bảng 1.1 HSMT | D5: Đáp ứng các yêu cầu về mặt kỹ thuật, nêu rõ nguồn gốc xuất xứ | G5: có bảng đánh giá chi tiết kèm theo
A6: 1.2 | B6: Đối với các loại vật tư, vật liệu khác được nêu tại Bảng 1.2 HSMT | D6: Có cam kết nguồn gốc xuất xứ | G6: có bảng đánh giá chi tiết kèm theo
A7: 2 | B7: Giải pháp kỹ thuật, Biện pháp tổ chức thi công | E7: =IF(AND(E8="Đạt"),"Đạt","Không đạt") -> Không đạt
A8: 2.1 | B8: Có giải pháp kỹ thuật, biện pháp thi công các hạng mục chính (Đào hào cáp, thi công cáp ngầm 22 kV; Đào đúc móng, dựng cột, lắp đặt xà, cách điện, thi công tiếp địa, kéo dải dây; lắp đặt trạm biến áp) theo đúng trình tự và yêu cầu kỹ thuật | D8: Có giải pháp kỹ thuật, biện pháp thi công đầy đủ, theo đúng trình tự và yêu cầu kỹ thuật
A9: 3 | B9: Tiến độ thi công | E9: =IF(AND(E10="Đạt",E11="Đạt",E12="Đạt"),"Đạt","Không đạt") -> Không đạt
A10: 3.1 | B10: Thời gian thi công: không quá 150 ngày có tính điều kiện thời tiết kể từ ngày khởi công | D10: Đề xuất thời gian thi công không vượt quá 150 ngày có tính đến điều kiện thời tiết.
A11: 3.2 | B11: Tính phù hợp: Giữa bố trí nhân lực và tiến độ thi công | D11: Đề xuất đầy đủ, hợp lý, khả thi
A12: 3.3 | B12: Biểu tiến độ thi công hợp lý, khả thi phù hợp với đề xuất kỹ thuật và đáp ứng yêu cầu của HSMT | D12: Có Biểu tiến độ thi công hợp lý, khả thi và phù hợp với đề xuất kỹ thuật và đáp ứng yêu cầu của HSMT
A13: 4 | B13: Biện pháp bảo đảm chất lượng | E13: =IF(AND(E14="Đạt"),"Đạt","Không đạt") -> Không đạt
A14: 4.1 | B14: Biện pháp bảo đảm chất lượng trong thi công | D14: Có biện pháp bảo đảm chất lượng hợp lý, khả thi phù hợp với đề xuất về biện pháp tổ chức thi công
A15: 5 | B15: An toàn lao động, phòng cháy chữa cháy, vệ sinh môi trường | E15: =IF(AND(E16="Đạt",E17="Đạt",E18="Đạt"),"Đạt","Không đạt") -> Không đạt
A16: 5.1 | B16: An toàn lao động: Biện pháp an toàn lao động hợp lý, khả thi phù hợp với đề xuất về biện pháp tổ chức thi công | D16: Có biện an toàn lao động hợp lý, khả thi phù hợp với đề xuất về biện pháp tổ chức thi công
A17: 5.2 | B17: Phòng cháy, chữa cháy: Biện pháp phòng cháy, chữa cháy hợp lý, khả thi, phù hợp với đề xuất về biện pháp tổ chức thi công | D17: Có biện phòng cháy, chữa cháy hợp lý, khả thi phù hợp với đề xuất về biện pháp tổ chức thi công
A18: 5.3 | B18: Vệ sinh môi trường: Biện pháp bảo đảm vệ sinh môi trường hợp lý, khả thi phù hợp với đề xuất về biện pháp tổ chức thi công | D18: Có biện pháp bảo đảm vệ sinh môi trường hợp lý, khả thi phù hợp với đề xuất về biện pháp tổ chức thi công
A19: 6 | B19: Bảo hành và uy tín của nhà thầu | E19: =IF(AND(E20="Đạt",E21="Đạt"),"Đạt","Không đạt") -> Không đạt
A20: 6.1 | B20: Bảo hành: Thời gian bảo hành 12 tháng. | D20: Có đề xuất thời gian bảo hành lớn hơn hoặc bằng 12 tháng
A21: 6.2 | B21: Uy tín của nhà thầu: Uy tín của nhà thầu thông qua việc thực hiện các hợp đồng tương tự trước đó trong vòng 3 năm (2012, 2013, 2014) trở lại đây. | D21: Có biện phòng cháy, chữa cháy hợp lý, khả thi phù hợp với đề xuất về biện pháp tổ chức thi công
A22: Kết luận | E22: =IF(AND(E4="Đạt",E7="Đạt",E9="Đạt",E13="Đạt",E15="Đạt",E19="Đạt"),"Đạt","Không đạt") -> Không đạt
A23: =+TH!A48 -> 1. Ông: Dương Phong Vũ …….. | D23: =+TH!#REF! -> #REF!
A24: =+TH!#REF! -> #REF! | D24: =+TH!#REF! -> #REF!
A25: =+TH!#REF! -> #REF! | D25: =+TH!#REF! -> #REF!
A26: =+TH!#REF! -> #REF! | D26: =+TH!#REF! -> #REF!
A27: =+TH!#REF! -> #REF! | D27: =+TH!#REF! -> #REF!
D28: =+TH!#REF! -> #REF!
A30: ĐÁNH GIÁ VỀ KỸ THUẬT
A31: =+#REF! -> #REF!
A32: STT | B32: Nội dung yêu cầu | D32: Mức độ đáp ứng | E32: Kết quả đánh giá | F32: Nhận xét của tổ chuyên gia | G32: Ghi chú
A33: 1 | B33: Mức độ đáp ứng yêu cầu kỹ thuật của Vật tư, thiết bị | E33: =+E35 -> 0
A34: 1.1 | B34: Đối với các Vật tư, thiết bị chính được nêu tại Bảng 1.1 HSMT | D34: Đáp ứng các yêu cầu về mặt kỹ thuật, nêu rõ nguồn gốc xuất xứ | E34: =+E35 -> 0 | G34: có bảng đánh giá chi tiết kèm theo
A35: 1.2 | B35: Đối với các loại vật tư, vật liệu khác được nêu tại Bảng 1.2 HSMT | D35: Có cam kết nguồn gốc xuất xứ | E35: =+'Mau 4.1'!D90 -> 0 | G35: có bảng đánh giá chi tiết kèm theo
A36: 2 | B36: Giải pháp kỹ thuật, Biện pháp tổ chức thi công | E36: =IF(AND(E37="Đạt"),"Đạt","Không đạt") -> Đạt
A37: 2.1 | B37: Có giải pháp kỹ thuật, biện pháp thi công các hạng mục chính (Cáp ngầm, đào đúc móng, dựng cột, lắp đặt xà, cách điện, thi công tiếp địa, kéo dải dây; lắp đặt trạm biến áp) theo đúng trình tự và yêu cầu kỹ thuật | D37: Có giải pháp kỹ thuật, biện pháp thi công đầy đủ, theo đúng trình tự và yêu cầu kỹ thuật | E37: Đạt
A38: 3 | B38: Tiến độ thi công | E38: =IF(AND(E39="Đạt",E40="Đạt",E41="Đạt"),"Đạt","Không đạt") -> Đạt
A39: 3.1 | B39: Thời gian thi công: không quá 150 ngày có tính điều kiện thời tiết kể từ ngày khởi công | D39: Đề xuất thời gian thi công không vượt quá 150 ngày có tính đến điều kiện thời tiết. | E39: Đạt
A40: 3.2 | B40: Tính phù hợp: Giữa bố trí nhân lực và tiến độ thi công | D40: Đề xuất đầy đủ, hợp lý, khả thi | E40: Đạt
A41: 3.3 | B41: Biểu tiến độ thi công hợp lý, khả thi phù hợp với đề xuất kỹ thuật và đáp ứng yêu cầu của HSMT | D41: Có Biểu tiến độ thi công hợp lý, khả thi và phù hợp với đề xuất kỹ thuật và đáp ứng yêu cầu của HSMT | E41: Đạt
...

Sheet Mau 4.1
A1: ĐÁNH GIÁ CHI TIẾT KỸ THUẬT PHẦN VẬT TƯ THIẾT BỊ
A2: =+'Mau 4'!A31:G31 -> #REF!
A3: A. ĐÁNH GIÁ ĐỐI VỚI CÁC VẬT TƯ, THIẾT BỊ CHÍNH
A4: STT | B4: Đặc tính kỹ thuật | C4: Yêu cầu | D4: Nhà thầu chào | E4: Đánh giá
A5: I | B5: Cáp ngầm Al/XLPE/PVC/DSTA/PVC-W-20/35(40,5) kV-3x50 mm2
A6: 1 | B6: Nhà sản xuất, nước SX | C6: Nêu rõ
A7: 2 | B7: Tiêu chuẩn áp dụng | C7: IEC 60502 hoặc tương đương
A8: 3 | B8: Điện áp lưới max Um | C8: 40,5 kV
A9: 4 | B9: Điện áp định mức giữa các ruột cáp U | C9: 35 kV
A10: 5 | B10: Điện áp định mức giữa ruột cáp và đất hoặc màn chắn Uo | C10: 20 kV
A11: 6 | B11: Vật liệu cách điện | C11: XLPE kiểu đùn ép
A12: 7 | B12: Độ dầy cách điện tối thiểu | C12: 8,8 mm
A13: 8 | B13: Vật liệu dây dẫn | C13: Dây nhôm nhiều sợi bện nén tròn theo chiều dài cáp
A14: 9 | B14: Tiết diện danh định | C14: 3x50 mm2
A15: 10 | B15: Màng chắn lõi | C15: Làm bằng vật liệu phi kim loại, lớp bán dẫn định hình bằng phương pháp đùn
A16: 11 | B16: Màng chắn cách điện | C16: Làm bằng vật liệu phi kim loại, lớp bán dẫn định hình bằng phương pháp đùn
A17: 12 | B17: Màn chắn kim loại | C17: Được làm bằng băng đồng cho từng lõi riêng rẽ. Chiều dày ≥ 0,127 mm
A18: II | B18: TỦ ĐIỆN HẠ THẾ 600A (3 lộ ra)
A19: 1 | B19: Nhà sản xuất, nước SX | C19: Nêu rõ
A20: 2 | B20: Vỏ tủ | C20: Tôn dày ≥ 1,5mm, sơn tĩnh điện; Có 2 lớp cánh; Có ngăn chống tổn thất riêng; Chế tạo vỏ tủ bằng công nghệ CNC
A21: 3 | B21: Cánh cửa bên ngoài tủ | C21: loại 2 cánh
A22: 4 | B22: Kiểu loại | C22: 3 pha 4 dây, lắp đặt trong trạm Kios
A23: 5 | B23: Điện áp định mức | C23: 0,4 kV
A24: 6 | B24: Áp tô mát tổng | C24: 1 cái x 600 A
A25: + | B25: Nhà sản xuất, nước SX | C25: Nêu rõ
A26: + | B26: Tiêu chuẩn áp dụng | C26: IEC 60947-2
A27: + | B27: Điện áp định mức | C27: 600 V
A28: + | B28: Dòng cắt ngăn mạch Icu | C28: 45 kA
A29: 7 | B29: Áp tô mát nhánh hạ thế | C29: 03 aptomat 600V-200A
A30: + | B30: Nhà sản xuất, nước SX | C30: Nêu rõ
A31: + | B31: Tiêu chuẩn áp dụng | C31: IEC 60947-2
A32: + | B32: Điện áp định mức | C32: 600 V
A33: + | B33: Dòng cắt ngăn mạch Icu | C33: 42 kA
A34: 8 | B34: Biến dòng điện hạ thế | C34: Số lượng: 06 cái (03 cái lắp tại ngăn chống tổn thất; 03 cái lắp ngăn dưới đo lường)
A35: + | B35: Nhà sản xuất, nước SX | C35: Nêu rõ
A36: + | B36: Tần số | C36: 50 Hz
A37: + | B37: Điện áp định mức | C37: 600 V
A38: + | B38: Cấp chính xác | C38: 0.5
A39: 9 | B39: Công tơ hữu công điện tử đo xa KWh 3x5(6) A, 380 V cấp chính xác 0,5S. Có kèm theo Module GPRS | C39: Số lượng: 01 cái
A40: 10 | B40: Đồng hồ A cấp chính xác 2,5 | C40: Số lượng: 03 cái
...
